
















BEGIN:VCALENDAR
VERSION:2.0
PRODID:-//eventon.com NONSGML v1.0//EN
CALSCALE:GREGORIAN
METHOD:PUBLISH
BEGIN:VEVENT
UID:69e4d7351485a
DTSTAMP:20260419T132301Z
DTSTART:20240619
DTEND:20240620
LOCATION:
SUMMARY:The Meetings Show 2024
DESCRIPTION:The Meetings Show is where ideas thrive\,  and global connectio
 ns flourish\,  all designed to offer exceptional value for time for busy ev
 ent professionals.\nhttps://micebook.com/blog/events/the-meetings-show-2024
 /
URL:https://micebook.com/blog/events/the-meetings-show-2024/
END:VEVENT
END:VCALENDAR